BEGIN:VCALENDAR
VERSION:2.0
PRODID:-//pretix//events.helsec.fi//
BEGIN:VTIMEZONE
TZID:Europe/Helsinki
BEGIN:STANDARD
DTSTART:20001029T050000
RRULE:FREQ=YEARLY;BYDAY=-1SU;BYMONTH=10
TZNAME:EET
TZOFFSETFROM:+0300
TZOFFSETTO:+0200
END:STANDARD
BEGIN:DAYLIGHT
DTSTART:20000326T040000
RRULE:FREQ=YEARLY;BYDAY=-1SU;BYMONTH=3
TZNAME:EEST
TZOFFSETFROM:+0200
TZOFFSETTO:+0300
END:DAYLIGHT
END:VTIMEZONE
BEGIN:VEVENT
UID:pretix-helsec-3hqdu-0@events.helsec.fi
DTSTART;TZID=Europe/Helsinki:20260116T173000
DTEND;TZID=Europe/Helsinki:20260116T220000
DESCRIPTION:Tickets: https://events.helsec.fi/helsec/3hqdu/\nOrganizer: Hel
 sec organization
DTSTAMP:20260420T164829Z
LOCATION:Tietoturvatoimisto Monti\, Säterinportti\, Linnoitustie 6\, 02600
  Espoo
SUMMARY:HelSec January 2026 Meetup Non-Members
END:VEVENT
END:VCALENDAR
